BEGIN:VCALENDAR
VERSION:2.0
PRODID:-//Castlereagh Fellowship - ECPv6.15.20//NONSGML v1.0//EN
CALSCALE:GREGORIAN
METHOD:PUBLISH
X-ORIGINAL-URL:https://www.castlereaghfellowship.com
X-WR-CALDESC:Events for Castlereagh Fellowship
REFRESH-INTERVAL;VALUE=DURATION:PT1H
X-Robots-Tag:noindex
X-PUBLISHED-TTL:PT1H
BEGIN:VTIMEZONE
TZID:Europe/London
BEGIN:DAYLIGHT
TZOFFSETFROM:+0000
TZOFFSETTO:+0100
TZNAME:BST
DTSTART:20250330T010000
END:DAYLIGHT
BEGIN:STANDARD
TZOFFSETFROM:+0100
TZOFFSETTO:+0000
TZNAME:GMT
DTSTART:20251026T010000
END:STANDARD
BEGIN:DAYLIGHT
TZOFFSETFROM:+0000
TZOFFSETTO:+0100
TZNAME:BST
DTSTART:20260329T010000
END:DAYLIGHT
BEGIN:STANDARD
TZOFFSETFROM:+0100
TZOFFSETTO:+0000
TZNAME:GMT
DTSTART:20261025T010000
END:STANDARD
BEGIN:DAYLIGHT
TZOFFSETFROM:+0000
TZOFFSETTO:+0100
TZNAME:BST
DTSTART:20270328T010000
END:DAYLIGHT
BEGIN:STANDARD
TZOFFSETFROM:+0100
TZOFFSETTO:+0000
TZNAME:GMT
DTSTART:20271031T010000
END:STANDARD
END:VTIMEZONE
BEGIN:VEVENT
DTSTART;TZID=Europe/London:20260113T200000
DTEND;TZID=Europe/London:20260113T210000
DTSTAMP:20260421T064548
CREATED:20251227T221801Z
LAST-MODIFIED:20251227T221801Z
UID:1277-1768334400-1768338000@www.castlereaghfellowship.com
SUMMARY:Physio Led Pilates
DESCRIPTION:Promotes whole body strengthening\, focused on the core. \nImproves flexibility\, mobility and balance. \nSuitable for mixed abilities. \n  \nINTERESTED \nPlease contact Louise 07895 688457
URL:https://www.castlereaghfellowship.com/event/physio-led-pilates-26/
LOCATION:Castlereagh Fellowship\, 206 Knock Road\, Belfast\, BT5 6QD\, United Kingdom
CATEGORIES:Physio Led Pilates
ATTACH;FMTTYPE=image/jpeg:https://www.castlereaghfellowship.com/wp-content/uploads/2024/11/Pilates.jpg
END:VEVENT
BEGIN:VEVENT
DTSTART;TZID=Europe/London:20260120T200000
DTEND;TZID=Europe/London:20260120T210000
DTSTAMP:20260421T064548
CREATED:20251227T222554Z
LAST-MODIFIED:20251227T222554Z
UID:1297-1768939200-1768942800@www.castlereaghfellowship.com
SUMMARY:Physio Led Pilates
DESCRIPTION:Promotes whole body strengthening\, focused on the core. \nImproves flexibility\, mobility and balance. \nSuitable for mixed abilities. \n  \nINTERESTED \nPlease contact Louise 07895 688457
URL:https://www.castlereaghfellowship.com/event/physio-led-pilates-27/
LOCATION:Castlereagh Fellowship\, 206 Knock Road\, Belfast\, BT5 6QD\, United Kingdom
CATEGORIES:Physio Led Pilates
ATTACH;FMTTYPE=image/jpeg:https://www.castlereaghfellowship.com/wp-content/uploads/2024/11/Pilates.jpg
END:VEVENT
BEGIN:VEVENT
DTSTART;TZID=Europe/London:20260127T200000
DTEND;TZID=Europe/London:20260127T210000
DTSTAMP:20260421T064548
CREATED:20251227T222617Z
LAST-MODIFIED:20251227T222617Z
UID:1299-1769544000-1769547600@www.castlereaghfellowship.com
SUMMARY:Physio Led Pilates
DESCRIPTION:Promotes whole body strengthening\, focused on the core. \nImproves flexibility\, mobility and balance. \nSuitable for mixed abilities. \n  \nINTERESTED \nPlease contact Louise 07895 688457
URL:https://www.castlereaghfellowship.com/event/physio-led-pilates-28/
LOCATION:Castlereagh Fellowship\, 206 Knock Road\, Belfast\, BT5 6QD\, United Kingdom
CATEGORIES:Physio Led Pilates
ATTACH;FMTTYPE=image/jpeg:https://www.castlereaghfellowship.com/wp-content/uploads/2024/11/Pilates.jpg
END:VEVENT
END:VCALENDAR