BEGIN:VCALENDAR
VERSION:2.0
PRODID:-//Castlereagh Fellowship - ECPv6.15.20//NONSGML v1.0//EN
CALSCALE:GREGORIAN
METHOD:PUBLISH
X-ORIGINAL-URL:https://www.castlereaghfellowship.com
X-WR-CALDESC:Events for Castlereagh Fellowship
REFRESH-INTERVAL;VALUE=DURATION:PT1H
X-Robots-Tag:noindex
X-PUBLISHED-TTL:PT1H
BEGIN:VTIMEZONE
TZID:Europe/London
BEGIN:DAYLIGHT
TZOFFSETFROM:+0000
TZOFFSETTO:+0100
TZNAME:BST
DTSTART:20250330T010000
END:DAYLIGHT
BEGIN:STANDARD
TZOFFSETFROM:+0100
TZOFFSETTO:+0000
TZNAME:GMT
DTSTART:20251026T010000
END:STANDARD
BEGIN:DAYLIGHT
TZOFFSETFROM:+0000
TZOFFSETTO:+0100
TZNAME:BST
DTSTART:20260329T010000
END:DAYLIGHT
BEGIN:STANDARD
TZOFFSETFROM:+0100
TZOFFSETTO:+0000
TZNAME:GMT
DTSTART:20261025T010000
END:STANDARD
BEGIN:DAYLIGHT
TZOFFSETFROM:+0000
TZOFFSETTO:+0100
TZNAME:BST
DTSTART:20270328T010000
END:DAYLIGHT
BEGIN:STANDARD
TZOFFSETFROM:+0100
TZOFFSETTO:+0000
TZNAME:GMT
DTSTART:20271031T010000
END:STANDARD
END:VTIMEZONE
BEGIN:VEVENT
DTSTART;TZID=Europe/London:20260403T200000
DTEND;TZID=Europe/London:20260403T213000
DTSTAMP:20260422T225924
CREATED:20260328T143154Z
LAST-MODIFIED:20260328T143154Z
UID:1441-1775246400-1775251800@www.castlereaghfellowship.com
SUMMARY:Ladies Fellowship
DESCRIPTION:The ladies fellowship will meet in the upper room at CF. All ladies welcome as we pray\, study and discuss God’s Word together and enjoy a wee cup of tea too.
URL:https://www.castlereaghfellowship.com/event/ladies-fellowship-11/
CATEGORIES:Ladies Fellowship
END:VEVENT
END:VCALENDAR