BEGIN:VCALENDAR
VERSION:2.0
PRODID:-//Castlereagh Fellowship - ECPv6.15.20//NONSGML v1.0//EN
CALSCALE:GREGORIAN
METHOD:PUBLISH
X-ORIGINAL-URL:https://www.castlereaghfellowship.com
X-WR-CALDESC:Events for Castlereagh Fellowship
REFRESH-INTERVAL;VALUE=DURATION:PT1H
X-Robots-Tag:noindex
X-PUBLISHED-TTL:PT1H
BEGIN:VTIMEZONE
TZID:Europe/London
BEGIN:DAYLIGHT
TZOFFSETFROM:+0000
TZOFFSETTO:+0100
TZNAME:BST
DTSTART:20240331T010000
END:DAYLIGHT
BEGIN:STANDARD
TZOFFSETFROM:+0100
TZOFFSETTO:+0000
TZNAME:GMT
DTSTART:20241027T010000
END:STANDARD
BEGIN:DAYLIGHT
TZOFFSETFROM:+0000
TZOFFSETTO:+0100
TZNAME:BST
DTSTART:20250330T010000
END:DAYLIGHT
BEGIN:STANDARD
TZOFFSETFROM:+0100
TZOFFSETTO:+0000
TZNAME:GMT
DTSTART:20251026T010000
END:STANDARD
BEGIN:DAYLIGHT
TZOFFSETFROM:+0000
TZOFFSETTO:+0100
TZNAME:BST
DTSTART:20260329T010000
END:DAYLIGHT
BEGIN:STANDARD
TZOFFSETFROM:+0100
TZOFFSETTO:+0000
TZNAME:GMT
DTSTART:20261025T010000
END:STANDARD
END:VTIMEZONE
BEGIN:VEVENT
DTSTART;TZID=Europe/London:20250927T113000
DTEND;TZID=Europe/London:20250927T193000
DTSTAMP:20260423T065213
CREATED:20250827T134423Z
LAST-MODIFIED:20250927T094214Z
UID:988-1758972600-1759001400@www.castlereaghfellowship.com
SUMMARY:Ladies Day
DESCRIPTION:There will be a Ladies Day with fellowship\, food and fun for all who attend CF. More details to follow.
URL:https://www.castlereaghfellowship.com/event/ladies-day/
CATEGORIES:Ladies Fellowship
END:VEVENT
END:VCALENDAR