BEGIN:VCALENDAR
VERSION:2.0
PRODID:-//Castlereagh Fellowship - ECPv6.15.20//NONSGML v1.0//EN
CALSCALE:GREGORIAN
METHOD:PUBLISH
X-WR-CALNAME:Castlereagh Fellowship
X-ORIGINAL-URL:https://www.castlereaghfellowship.com
X-WR-CALDESC:Events for Castlereagh Fellowship
REFRESH-INTERVAL;VALUE=DURATION:PT1H
X-Robots-Tag:noindex
X-PUBLISHED-TTL:PT1H
BEGIN:VTIMEZONE
TZID:Europe/London
BEGIN:DAYLIGHT
TZOFFSETFROM:+0000
TZOFFSETTO:+0100
TZNAME:BST
DTSTART:20250330T010000
END:DAYLIGHT
BEGIN:STANDARD
TZOFFSETFROM:+0100
TZOFFSETTO:+0000
TZNAME:GMT
DTSTART:20251026T010000
END:STANDARD
BEGIN:DAYLIGHT
TZOFFSETFROM:+0000
TZOFFSETTO:+0100
TZNAME:BST
DTSTART:20260329T010000
END:DAYLIGHT
BEGIN:STANDARD
TZOFFSETFROM:+0100
TZOFFSETTO:+0000
TZNAME:GMT
DTSTART:20261025T010000
END:STANDARD
BEGIN:DAYLIGHT
TZOFFSETFROM:+0000
TZOFFSETTO:+0100
TZNAME:BST
DTSTART:20270328T010000
END:DAYLIGHT
BEGIN:STANDARD
TZOFFSETFROM:+0100
TZOFFSETTO:+0000
TZNAME:GMT
DTSTART:20271031T010000
END:STANDARD
END:VTIMEZONE
BEGIN:VEVENT
DTSTART;TZID=Europe/London:20260425T200000
DTEND;TZID=Europe/London:20260425T220000
DTSTAMP:20260425T015317
CREATED:20260328T145651Z
LAST-MODIFIED:20260328T145651Z
UID:1474-1777147200-1777154400@www.castlereaghfellowship.com
SUMMARY:Ignite - Young Adults
DESCRIPTION:There will be a meeting for all young adults once a month on a Saturday night @ 8.00pm. \nInformal Bible study\, a bit of craic\, a lot of eating. \nFor venue and more information contact Claire on 07445 337171 (best to text) or email the church on castlereaghfellowship@gmail.com.
URL:https://www.castlereaghfellowship.com/event/ignite-young-adults-16/
CATEGORIES:Youth Work
ATTACH;FMTTYPE=image/webp:https://www.castlereaghfellowship.com/wp-content/uploads/2024/11/Jesus.webp
ORGANIZER;CN="Geoff McIlrath":MAILTO:castlereaghfellowship@gmail.com
END:VEVENT
END:VCALENDAR